{"text_format":"1","workbook":"xlsx","n_sheets":3,"sheets":["ΠΡΟΜΕΤΡΗΣΗ","ΠΡΟΥΠΟΛΟΓΙΣΜΟΣ","ΕΝΣΗΜΑ ΙΚΑ"],"not_rendered":{"charts":0,"images":0,"macros":1,"external_links":1,"defined_names":1,"comments":0,"pivot_tables":0},"unopened":[],"bounds":{"document_bytes":16777216,"sheet_cells":100000,"rows_first":2000,"rows_last":500,"rows_between":2000,"halvings":0,"cell_chars":16384,"cell_head_chars":4096},"cells_cut":0,"cells_raw":0,"read":"whole","date_system":"1900"}

{"sheet":"ΠΡΟΜΕΤΡΗΣΗ","index":0,"n_rows":29,"n_cols":10,"rows_kept":29,"cut":false,"hidden":false,"merged":[[24,3,24,5],[25,3,25,5],[19,3,19,5],[1,1,1,5],[23,3,23,5],[2,1,3,5],[5,1,7,6]]}
[]
[null,"ΠΡΟΣΟΧΗ"]
[null,"1.ενεργοποιείστε τις επιλογές 2. αποθηκεύστε πάντα με δυνατότητα μακροεντολών    3. στις αριθμητικες πράξεις αντί για κόμμα χρησιμοποίηστε τελεία και 4. για να προσθέσετε γραμμή κάντε αντιγραφή άλλων αριθμ πράξεων"]
[]
[]
[null,"ΕΡΓΟ: Εργασίες περίπτωσης  ιβ «Εργασίες εξωτερικών χρωματισμών ή αντικατάσταση κιγκλιδωμάτων ή επισκευή επιχρισμάτων ή επισκευή όψεων με χρήση ικριωμάτων» της παρ 2 του άρθρου 29 του ν.4495/2017 \nΕΡΓΟΔΟΤΗΣ: Κανα.....τάνιου Ελένη\nΘΕΣΗ ΕΡΓΟΥ:  ....-Ο.Τ 293  .....\n"]
[]
[]
[]
[null,null,"ΑΝΑΛΥΤΙΚΗ ΠΡΟΜΕΤΡΗΣΗ ΕΡΓΑΣΙΩΝ-ΕΝΣΗΜΑ ΙΚΑ πιν 3"]
[]
[]
[null,"ΕΡΓΑΣΙΑ","ΑΡΙΘΜΗΤΙΚΕΣ ΠΡΑΞΕΙΣ","ΣΥΝΟΛΟ","ΜΟΝΑΔΕΣ","ΤΙΜΗ ΜΟΝΑΔΑΣ","ΜΕΡΙΚΟΣ ΠΡΟΫΠΟΛΟΓΙΣΜΟΣ","ΕΝΣΗΜΑ/ΜΟΝΑΔΑ","ΕΝΣΗΜΑ","ΦΑΣΗ ΕΡΓΟΥ"]
[null,"2.05 Καθαιρέσεις επιχρισμάτων","κατ' αποκοπή",6,"τ.μ",4.0999999999999996,{"$f":"D14*F14","v":24.599999999999998},0.09,{"$f":"D14*H14","v":0.54},0.1]
[null,"5.01 Ασβεστοτσιμεντοκονιαματα τριπτά ","κατ' αποκοπή",6,"Τ.Μ",5.86,{"$f":"F15*D15","v":35.160000000000004},0.04,{"$f":"D15*H15","v":0.24},0.3]
[null,"17.03 Πλαστικά επί τοίχου","(1.71+7.59)*9.3+(0.76+3.7+1.2)*9.5+1.36*7+(1*6)+(4*3)+(1*3.6)+(1*6)+(9.66+1.36)*2.4/2",{"$f":"evalmath(C16)","v":190.60400000000001},"Τ.Μ",3.52,{"$f":"F16*D16","v":670.92608000000007},2.7E-2,{"$f":"D16*H16","v":5.1463080000000003},0.5]
[null,"18.02 Ικριώματα",null,{"$f":"D16","v":190.60400000000001},"τ.μ",2.06,{"$f":"F17*D17","v":392.64424000000002},1.2999999999999999E-2,2.4778519999999999,0.6]
[]
[null,"σύνολο"]
[null,null,null,"ΟΛΙΚΟΣ ΠΡΟΫΠΟΛΟΓΙΣΜΟΣ",null,null,{"$f":"SUM(G15:G19)","v":1098.7303200000001},null,{"$f":"SUM(I15:I19)","v":7.86416}]
[]
[]
[]
[null,null,null,"27/10/202."]
[]
[null,null,null,"Ο ΣΥΝΤΑΞΑΣ ΜΗΧΑΝΙΚΟΣ"]
[]
[]
[null,"*"]

{"sheet":"ΠΡΟΥΠΟΛΟΓΙΣΜΟΣ","index":1,"n_rows":235,"n_cols":7,"rows_kept":235,"cut":false,"hidden":false,"merged":[[229,0,229,3],[230,0,230,5],[231,0,231,5],[7,0,7,6],[1,0,5,6]]}
[]
["ΕΡΓΟ: Εργασίες περίπτωσης  ιβ «Εργασίες εξωτερικών χρωματισμών ή αντικατάσταση κιγκλιδωμάτων ή επισκευή επιχρισμάτων ή επισκευή όψεων με χρήση ικριωμάτων» της παρ 2 του άρθρου 29 του ν.4495/2017 \nΕΡΓΟΔΟΤΗΣ: Κανα.....τάνιου Ελένη\nΘΕΣΗ ΕΡΓΟΥ:  ....-Ο.Τ 293  .....\n"]
[]
[]
[]
[]
[]
["ΑΝΑΛΥΤΙΚΟΣ ΠΡΟΫΠΟΛΟΓΙΣΜΟΣ ΤΟΥ ΕΡΓΟΥ"]
[null,null,null,null,null,null,"Ν 4495/17"]
["      α/α            ΕΡΓΑΣΙΑ","ΜΟΝΑΔΑ","ΠΟΣΟΤΗΤΑ","ΤΙΜΗ ΜΟΝΑΔΟΣ € (Εγκ. 8/90)","ΤΙΜΗ ΜΟΝΑΔΟΣ € (Παρ. Β)","ΣΥΝΟΛΟ (Εγκύκλιος 8/90)","ΣΥΝΟΛΟ (Παράρτημα Β)"]
["1. Χωματουργικά"]
["1.01 Γενικές εκσκαφές γαιώδεις","μ3",null,{"$f":"'[1]Σε ΔΡΧ'!D12/340.75","v":1.6140865737344094},3.22,{"$f":"IF(C12<=0,\" \",D12*C12)","v":" "},{"$f":"IF(C12<=0,\" \",E12*C12)","v":" "}]
["1.02 Γενικές εκσκαφές ημιβραχώδεις","μ3",null,{"$f":"'[1]Σε ΔΡΧ'!D13/340.75","v":1.6140865737344094},3.22,{"$f":"IF(C13<=0,\" \",D13*C13)","v":" "},{"$f":"IF(C13<=0,\" \",E13*C13)","v":" "}]
["1.03 Γενικές εκσκαφές βραχώδεις","μ3",null,{"$f":"'[1]Σε ΔΡΧ'!D14/340.75","v":5.8694057226705798},11.74," "," "]
["1.04 Εκσκαφές θεμελίων γαιώδεις","μ3",null,{"$f":"'[1]Σε ΔΡΧ'!D15/340.75","v":2.6412325752017609},5.28," "," "]
["1.05 Εκσκαφές θεμελίων ημιβραχώδεις","μ3",null,{"$f":"'[1]Σε ΔΡΧ'!D16/340.75","v":2.6412325752017609},5.28," "," "]
["1.06 Εκσκαφές θεμελίων βραχώδεις","μ3",null,{"$f":"'[1]Σε ΔΡΧ'!D17/340.75","v":2.6412325752017609},5.28," "," "]
["1.07 Επιχώσεις με προιόντα εκσκαφής","μ3",null,{"$f":"'[1]Σε ΔΡΧ'!D18/340.75","v":0.58694057226705798},1.18," "," "]
["1.08Ειδικές επιχώσεις (σκύρα κ.λ.π.)","μ3",null,{"$f":"'[1]Σε ΔΡΧ'!D19/340.75","v":2.9347028613352899},5.86," "," "]
["1.09 Εκσκαφές ημιβραχώδεις με τα χέρια  ή κομπρεσέρ (περιλαμβάνεται φόρτωση, μεταφορά κλπ.)","μ4"]
["1.10 Εκσκαφές βραχώδεις με τα χέρια  ή κομπρεσέρ (περιλαμβάνεται φόρτωση, μεταφορά κλπ.) ","μ5"]
["1.11 Επιχώσεις πάσης φύσεως με τα χέρια (περιλαμβάνεται φόρτωση, μεταφορά, διάστρωση, συμπύκνωση κλπ.)","μ6"]
["ΣΥΝΟΛΟ ΧΩΜΑΤΟΥΡΓΙΚΑ",null,null,null,null,{"$f":"SUM(F12:F22)","v":0},{"$f":"SUM(G12:G22)","v":0}]
["2. Καθαιρέσεις"]
["2.01 Καθαιρ. Πλινθοδ. με συνήθη κονίαμα","μ3",null,{"$f":"'[1]Σε ΔΡΧ'!D22/340.75","v":5.8694057226705798},11.74,{"$f":"IF(C25<=0,\" \",D25*C25)","v":" "},{"$f":"IF(C25<=0,\" \",E25*C25)","v":" "}]
["2.02 Καθαιρ. Πλινθοδ. με ισχυρό κονίαμα","μ3",null,{"$f":"'[1]Σε ΔΡΧ'!D23/340.75","v":7.3367571533382243},14.68," ",{"$f":"IF(C26<=0,\" \",E26*C26)","v":" "}]
["2.03 Καθαιρέσεις αόπλου σκυροδέματος","μ3",null,{"$f":"'[1]Σε ΔΡΧ'!D24/340.75","v":20.54292002934703},41.08," "," "]
["2.04 Καθαιρέσεις οπλισμένου σκυροδέματος","μ3",null,{"$f":"'[1]Σε ΔΡΧ'!D25/340.75","v":32.281731474688186},64.56," "," "]
["2.05 Καθαιρέσεις επιχρισμάτων","μ2",null,{"$f":"'[1]Σε ΔΡΧ'!D26/340.75","v":2.0542920029347029},4.0999999999999996," "," "]
["2.06 Καθαιρέσεις τοίχων δια την διαμόρφωση θυρών","τεμάχιο",null,{"$f":"'[1]Σε ΔΡΧ'!D27/340.75","v":7.3367571533382243},14.68," "," "]
["2.07 Καθαιρέσεις ξύλινων ή σιδηρών θυρών & παραθύρων","μ2",null,{"$f":"'[1]Σε ΔΡΧ'!D28/340.75","v":4.4020542920029344},8.8000000000000007," "," "]
["2.08 Αποξήλωση σκελετού στέγης πάσης φύσεως","μ2",null,null,1.5,null," "]
["2.09 Αποξήλωση υλικών επικάλυψης στέγης (κεραμίδια, πάνελ κτλ)","μ2",null,null,0.8,null," "]
["2.10 Αποξήλωση κιγκλιδωμάτων","μ2",null,null,0.8,null," "]
["ΣΥΝΟΛΟ ΚΑΘΑΙΡΕΣΕΙΣ",null,null,null,null,{"$f":"SUM(F25:F34)","v":0},{"$f":"SUM(G25:G34)","v":0}]
["3. Σκυροδέματα - Μεταλλικός Σκελετός"]
["3.01 Οπλισμένο σκυρόδεμα","μ3",null,{"$f":"'[1]Σε ΔΡΧ'!D31/340.75","v":73.367571533382247},146.74,{"$f":"IF(C37<=0,\" \",D37*C37)","v":" "},{"$f":"IF(C37<=0,\" \",E37*C37)","v":" "}]
["3.02 Ελαφρά οπλ. σκυρόδεμα (με πλέγμα)","μ3",null,{"$f":"'[1]Σε ΔΡΧ'!D32/340.75","v":52.824651504035216},105.64,{"$f":"IF(C38<=0,\" \",D38*C38)","v":" "},{"$f":"IF(C38<=0,\" \",E38*C38)","v":" "}]
["3.03 Ελαφρό Μπετόν","μ3",null,{"$f":"'[1]Σε ΔΡΧ'!D33/340.75","v":35.216434336023475},70.44," "," "]
["3.04 Άοπλο σκυρόδεμα δαπέδων","μ2",null,{"$f":"'[1]Σε ΔΡΧ'!D34/340.75","v":2.9347028613352899},5.86," "," "]
["3.05 Εξισωτικές στρώσεις","μ2",null,{"$f":"'[1]Σε ΔΡΧ'!D35/340.75","v":2.0542920029347029},4.0999999999999996," "," "]
["3.06 Επιφάνειες εμφανούς σκυροδέματος","μ2",null,{"$f":"'[1]Σε ΔΡΧ'!D36/340.75","v":2.9347028613352899},5.86," "," "]
["3.07 Σενάζ δρομικά","μ./μήκους",null,{"$f":"'[1]Σε ΔΡΧ'!D37/340.75","v":3.5216434336023479},7.04," "," "]
["3.08 Σενάζ μπατικά","μ./μήκους",null,{"$f":"'[1]Σε ΔΡΧ'!D38/340.75","v":5.8694057226705798},11.74," "," "]
["3.09 Μανδύας χυτού σκυροδέματος","μ3",null,{"$f":"'[1]Σε ΔΡΧ'!D39/340.75","v":117.38811445341159},234.78," "," "]
["3.10 Μανδύας εκτοξευομένου σκυροδέματος","μ2",null,{"$f":"'[1]Σε ΔΡΧ'!D40/340.75","v":23.477622890682319},46.96," "," "]
["3.11 Σιδηροδοοί ως φέρων οργανισμός","kg",null,null,1.8,null," "]
["ΣΥΝΟΛΟ ΣΚΥΡΟΔΕΜΑΤΑ",null,null,null,null,{"$f":"SUM(F37:F47)","v":0},{"$f":"SUM(G37:G47)","v":0}]
["4. Τοιχοποιίες"]
["4.01 Λιθοδομές με κοινούς λίθους","μ2",null,{"$f":"'[1]Σε ΔΡΧ'!D43/340.75","v":14.673514306676449},29.34,{"$f":"IF(C50<=0,\" \",D50*C50)","v":" "},{"$f":"IF(C50<=0,\" \",E50*C50)","v":" "}]
["4.02 Λιθοδομές με λαξευτούς λίθους","μ2",null,{"$f":"'[1]Σε ΔΡΧ'!D44/340.75","v":23.477622890682319},46.96,{"$f":"IF(C51<=0,\" \",D51*C51)","v":" "},{"$f":"IF(C51<=0,\" \",E51*C51)","v":" "}]
["4.03 Πλινθοδομές δρομικές ","μ2",null,{"$f":"'[1]Σε ΔΡΧ'!D45/340.75","v":4.1085840058694059},8.2200000000000006," "," "]
["4.04 Πλινθοδομές μπατικές","μ2",null,{"$f":"'[1]Σε ΔΡΧ'!D46/340.75","v":7.6302274394717537},15.26," "," "]
["4.05 Τσιμεντολιθοδομές","μ2",null,{"$f":"'[1]Σε ΔΡΧ'!D47/340.75","v":3.8151137197358769},7.64," "," "]
["4.06 Κισσηρολιθοδομες","μ2",null,{"$f":"'[1]Σε ΔΡΧ'!D48/340.75","v":4.4020542920029344},8.8000000000000007," "," "]
["4.07 Τοίχοι γυψοσανίδων απλοί","μ2",null,{"$f":"'[1]Σε ΔΡΧ'!D49/340.75","v":11.73881144534116},23.48," "," "]
["4.08 Τοίχοι γυψοσανίδων με 2 γυψοσανίδες σε κάθε πλευρά","μ2",null,{"$f":"'[1]Σε ΔΡΧ'!D50/340.75","v":14.673514306676449},29.34," "," "]
["4.09 Τσιμεντοσανίδες","μ2",null,null,36,null," "]
["4.10 Από ελαφρά στοιχεία τύπου YTONG, ALFA BLOCK","μ2",null,null,12,null," "]
["4.11 Διαχωριστικοί τοίχοι","μ2",null,null,40,null," "]
["4.12 Διαψωριστικοί τοίχοι με υλικά Βιομηχανικής προέλευσης (MDF, μελαμίνες κτλ) σε μεταλλικό σκελετό","μ2",null,null,35,null," "]
["ΣΥΝΟΛΟ ΤΟΙΧΟΠΟΙΙΕΣ",null,null,null,null,{"$f":"SUM(F50:F61)","v":0},{"$f":"SUM(G50:G61)","v":0}]
["5. Επιχρίσματα"]
["5.01 Ασβεστοτσιμεντοκονιαματα τριπτά","μ2",6,{"$f":"'[1]Σε ΔΡΧ'!D53/340.75","v":2.9347028613352899},5.86,{"$f":"IF(C64<=0,\" \",D64*C64)","v":17.608217168011741},{"$f":"IF(C64<=0,\" \",E64*C64)","v":35.160000000000004}]
["5.02 Τσιμεντοκονιάματα τριπτά με διο/μένο περλίτη στη 2 στρώση","μ2",null,{"$f":"'[1]Σε ΔΡΧ'!D54/340.75","v":3.2281731474688189},6.46,{"$f":"IF(C65<=0,\" \",D65*C65)","v":" "},{"$f":"IF(C65<=0,\" \",E65*C65)","v":" "}]
["5.03 Ασβεστοτσιμεντοκονιαματα με κάλυψη σαγρε","μ2",null,{"$f":"'[1]Σε ΔΡΧ'!D55/340.75","v":3.5216434336023479},7.04," "," "]
["5.04 Αρτιφισιέλ τριπτά","μ2",null,{"$f":"'[1]Σε ΔΡΧ'!D56/340.75","v":4.4020542920029344},8.8000000000000007," "," "]
["5.05 Επιχρίσματα χωριάτικου τύπου","μ2",null,{"$f":"'[1]Σε ΔΡΧ'!D57/340.75","v":3.8151137197358769},7.64," "," "]
["5.06 Επιχρίσματα τραβηκτά","μ2",null,{"$f":"'[1]Σε ΔΡΧ'!D58/340.75","v":14.673514306676449},29.34," "," "]
["ΣΥΝΟΛΟ ΕΠΙΧΡΙΣΜΑΤΩΝ",null,null,null,null,{"$f":"SUM(F64:F69)","v":17.608217168011741},{"$f":"SUM(G64:G69)","v":35.160000000000004}]
["6. Επενδύσεις τοίχων"]
["6.01 Με πλακίδια πορσελάνης","μ2",null,{"$f":"'[1]Σε ΔΡΧ'!D61/340.75","v":14.673514306676449},29.34,{"$f":"IF(C72<=0,\" \",D72*C72)","v":" "},{"$f":"IF(C72<=0,\" \",E72*C72)","v":" "}]
["6.02 Με Ξύλο","μ2",null,{"$f":"'[1]Σε ΔΡΧ'!D62/340.75","v":14.673514306676449},29.34," "," "]
["6.03 Με διακοσμητικά τούβλα","μ2",null,{"$f":"'[1]Σε ΔΡΧ'!D63/340.75","v":17.608217168011738},35.22," "," "]
["6.04 Με λίθινες πλάκες (Καρύστου)","μ2",null,{"$f":"'[1]Σε ΔΡΧ'!D64/340.75","v":20.54292002934703},41.08," "," "]
["6.05 Με πλάκες μαρμάρου","μ2",null,{"$f":"'[1]Σε ΔΡΧ'!D65/340.75","v":20.54292002934703},41.08," "," "]
["6.06 Με αλουμίνιο","μ2",null,{"$f":"'[1]Σε ΔΡΧ'!D66/340.75","v":58.694057226705795},117.38," "," "]
["ΣΥΝΟΛΟ ΕΠΕΝΔΥΣΕΙΣ ΤΟΙΧΩΝ",null,null,null,null,{"$f":"SUM(F72:F77)","v":0},{"$f":"SUM(G72:G77)","v":0}]
["7. Στρώσεις Δαπέδων"]
["7.01 Με τσιμεντοκονία","μ2",null,{"$f":"'[1]Σε ΔΡΧ'!D69/340.75","v":4.4020542920029344},8.8000000000000007,{"$f":"IF(C80<=0,\" \",D80*C80)","v":" "},{"$f":"IF(C80<=0,\" \",E80*C80)","v":" "}]
["7.02 Με τσιμεντόπλακες","μ2",null,{"$f":"'[1]Σε ΔΡΧ'!D70/340.75","v":5.8694057226705798},11.74,{"$f":"IF(C81<=0,\" \",D81*C81)","v":" "},{"$f":"IF(C81<=0,\" \",E81*C81)","v":" "}]
["7.03 Γαρμπιλομωσαϊκό","μ2",null,{"$f":"'[1]Σε ΔΡΧ'!D71/340.75","v":5.8694057226705798},11.74," "," "]
["7.04 Με μωσαϊκό λευκού τσιμέντου","μ2",null,{"$f":"'[1]Σε ΔΡΧ'!D72/340.75","v":8.8041085840058688},17.600000000000001," "," "]
["7.05 Με λίθινες πλάκες (Καρύστου κ.λ.π.)","μ2",null,{"$f":"'[1]Σε ΔΡΧ'!D73/340.75","v":14.673514306676449},29.34," "," "]
["7.06 Με πλάκες μαρμάρου","μ2",null,{"$f":"'[1]Σε ΔΡΧ'!D74/340.75","v":17.608217168011738},35.22," "," "]
["7.07 Με πλακίδια κεραμικά ή πορσελάνης","μ2",null,{"$f":"'[1]Σε ΔΡΧ'!D75/340.75","v":17.608217168011738},35.22," "," "]
["7.08 Με πλαστικά πλακίδια ή τάπητα","μ2",null,{"$f":"'[1]Σε ΔΡΧ'!D76/340.75","v":5.8694057226705798},11.74," "," "]
["7.09 Με λωρίδες σουηδικής ξυλείας","μ2",null,{"$f":"'[1]Σε ΔΡΧ'!D77/340.75","v":17.608217168011738},35.22," "," "]
["7.10 Με λωρίδες αφρικανικής ξυλείας","μ2",null,{"$f":"'[1]Σε ΔΡΧ'!D78/340.75","v":23.477622890682319},46.98," "," "]
["7.11 Με λωρίδες δρυός","μ2",null,{"$f":"'[1]Σε ΔΡΧ'!D79/340.75","v":29.347028613352897},58.7," "," "]
["7.12 Με μοκέτα","μ2",null,{"$f":"'[1]Σε ΔΡΧ'!D80/340.75","v":8.8041085840058688},17.600000000000001," "," "]
["7.13 Ασφαλτικές στρώσεις","μ2",null,null,14,null," "]
["ΣΥΝΟΛΟ ΣΤΡΩΣΕΙΣ ΔΑΠΕΔΩΝ",null,null,null,null,{"$f":"SUM(F80:F92)","v":0},{"$f":"SUM(G80:G92)","v":0}]
["8. Κουφώματα"]
["8.01 Πόρτες πρεσσαριστές κοινές","μ2",null,{"$f":"'[1]Σε ΔΡΧ'!D83/340.75","v":29.347028613352897},58.7,{"$f":"IF(C95<=0,\" \",D95*C95)","v":" "},{"$f":"IF(C95<=0,\" \",E95*C95)","v":" "}]
["8.02 Πόρτες πρεσσαριστές οκουμέ","μ2",null,{"$f":"'[1]Σε ΔΡΧ'!D84/340.75","v":35.216434336023475},70.44,{"$f":"IF(C96<=0,\" \",D96*C96)","v":" "},{"$f":"IF(C96<=0,\" \",E96*C96)","v":" "}]
["8.03 Πόρτες πρεσ. καπλ. κάσες δρύ ή καρυδιά","μ2",null,{"$f":"'[1]Σε ΔΡΧ'!D85/340.75","v":73.367571533382247},146.74," "," "]
["8.04 Πόρτες ραμποτέ ή ταμπλ. σουηδ. ξυλεία","μ2",null,{"$f":"'[1]Σε ΔΡΧ'!D86/340.75","v":51.357300073367568},102.72," "," "]
["8.05 Πόρτες ραμποτέ ή ταμπλ. δρύ ή καρυδιά","μ2",null,{"$f":"'[1]Σε ΔΡΧ'!D87/340.75","v":117.38811445341159},234.78," "," "]
["8.06 Υαλοστάσια από σουηδική ξυλεία","μ2",null,{"$f":"'[1]Σε ΔΡΧ'!D88/340.75","v":44.020542920029349},88.04," "," "]
["8.07 Υαλοστάσια από όρεγκον πάιν","μ2",null,{"$f":"'[1]Σε ΔΡΧ'!D89/340.75","v":58.694057226705795},117.38," "," "]
["8.08 Σκούρα από σουηδική ξυλεία","μ2",null,{"$f":"'[1]Σε ΔΡΧ'!D90/340.75","v":44.020542920029349},88.04," "," "]
["8.09 Σκούρα από όρεγκον πάιν","μ2",null,{"$f":"'[1]Σε ΔΡΧ'!D91/340.75","v":58.694057226705795},117.38," "," "]
["8.10 Ρολλά από όρεγκον πάιν","μ2",null,{"$f":"'[1]Σε ΔΡΧ'!D92/340.75","v":44.020542920029349},88.04," "," "]
["8.11 Ρολλά πλαστικά","μ2",null,{"$f":"'[1]Σε ΔΡΧ'!D93/340.75","v":17.608217168011738},35.22," "," "]
["8.12 Σιδερένιες πόρτες","μ2",null,{"$f":"'[1]Σε ΔΡΧ'!D94/340.75","v":29.347028613352897},58.7," "," "]
["8.13 Σιδερένια παράθυρα","μ2",null,{"$f":"'[1]Σε ΔΡΧ'!D95/340.75","v":23.477622890682319},46.96," "," "]
["8.14 Σιδερένιες βιτρίνες","μ2",null,{"$f":"'[1]Σε ΔΡΧ'!D96/340.75","v":23.477622890682319},46.96," "," "]
["8.15 Συρόμενα ή σταθ. υαλοστ. αλουμινίου","μ2",null,{"$f":"'[1]Σε ΔΡΧ'!D97/340.75","v":38.151137197358764},76.3," "," "]
["8.16 Συρομ. ή σταθ. σκούρα με πλαστικό","μ2",null,{"$f":"'[1]Σε ΔΡΧ'!D98/340.75","v":20.54292002934703},41.08," "," "]
["8.17 Ανοιγόμενα περιστρ. κουφώματα αλουμινίου","μ2",null,{"$f":"'[1]Σε ΔΡΧ'!D99/340.75","v":52.824651504035216},105.64," "," "]
["8.18 Βιτρίνες αλουμινίου","μ2",null,{"$f":"'[1]Σε ΔΡΧ'!D100/340.75","v":35.216434336023475},70.44," "," "]
["8.19 Μονόφυλλη πυράντοχη πόρτα Τ30 -Τ90","τεμάχιο",null,{"$f":"'[1]Σε ΔΡΧ'!D101/340.75","v":352.1643433602348},704.32," "," "]
["8.20 Δίφυλλη πυράντοχη πόρτα Τ30 -Τ90","τεμάχιο",null,{"$f":"'[1]Σε ΔΡΧ'!D102/340.75","v":586.94057226705797},1173.8800000000001," "," "]
["8.21 Γκαραζόπορτες ανακλινόμενες ή τυλιγόμενες","τεμάχιο",null,null,120,null," "]
["ΣΥΝΟΛΟ ΚΟΥΦΩΜΑΤΑ",null,null,null,null,{"$f":"SUM(F95:F115)","v":0},{"$f":"SUM(G95:G115)","v":0}]
["9. Ντουλάπια"]
["9.01 Ντουλάπες κοινές (υπνοδωματίων)","μ2 όψης",null,{"$f":"'[1]Σε ΔΡΧ'!D105/340.75","v":58.694057226705795},117.38,{"$f":"IF(C118<=0,\" \",D118*C118)","v":" "},{"$f":"IF(C118<=0,\" \",E118*C118)","v":" "}]
["9.02 Ντουλάπια κουζίνας κοινά","μ./μήκους",null,{"$f":"'[1]Σε ΔΡΧ'!D106/340.75","v":44.020542920029349},88.04,{"$f":"IF(C119<=0,\" \",D119*C119)","v":" "},{"$f":"IF(C119<=0,\" \",E119*C119)","v":" "}]
["9.03 Ντουλάπια κουζ. φορμάικα ή καπλαμά","μ./μήκους",null,{"$f":"'[1]Σε ΔΡΧ'!D107/340.75","v":58.694057226705795},117.38,{"$f":"IF(C120<=0,\" \",D120*C120)","v":" "},{"$f":"IF(C120<=0,\" \",E120*C120)","v":" "}]
["9.04 Ντουλάπια κουζ. από συμπαγή ξυλεία","μ./μήκους",null,{"$f":"'[1]Σε ΔΡΧ'!D108/340.75","v":146.73514306676449},293.48,{"$f":"IF(C121<=0,\" \",D121*C121)","v":" "},{"$f":"IF(C121<=0,\" \",E121*C121)","v":" "}]
["ΣΥΝΟΛΟ ΝΤΟΥΛΑΠΙΑ",null,null,null,null,{"$f":"SUM(F118:F121)","v":0},{"$f":"SUM(G118:G121)","v":0}]
["10. Μονώσεις"]
["10.01 θερμομόνωση-υγρομόνωση δώματος","μ2",null,{"$f":"'[1]Σε ΔΡΧ'!D111/340.75","v":14.673514306676449},29.34,{"$f":"IF(C124<=0,\" \",D124*C124)","v":" "},{"$f":"IF(C124<=0,\" \",E124*C124)","v":" "}]
["10.02 Θερμομόνωση-υγρομόνωση βεραντών","μ2",null,{"$f":"'[1]Σε ΔΡΧ'!D112/340.75","v":7.3367571533382243},14.68,{"$f":"IF(C125<=0,\" \",D125*C125)","v":" "},{"$f":"IF(C125<=0,\" \",E125*C125)","v":" "}]
["10.03 Θερμομόνωση υγρομόνωση κατακόρυφων επιφανειών","μ2",null,{"$f":"'[1]Σε ΔΡΧ'!D113/340.75","v":2.9347028613352899},5.86,{"$f":"IF(C126<=0,\" \",D126*C126)","v":" "},{"$f":"IF(C126<=0,\" \",E126*C126)","v":" "}]
["10.04 Υγρομόνωση τοιχείων υπογείων","μ2",null,{"$f":"'[1]Σε ΔΡΧ'!D114/340.75","v":2.0542920029347029},4.0999999999999996,{"$f":"IF(C127<=0,\" \",D127*C127)","v":" "},{"$f":"IF(C127<=0,\" \",E127*C127)","v":" "}]
["10.05 Υγρομόνωση δαπέδων επί εδάφους","μ2",null,{"$f":"'[1]Σε ΔΡΧ'!D115/340.75","v":2.9347028613352899},5.86,{"$f":"IF(C128<=0,\" \",D128*C128)","v":" "},{"$f":"IF(C128<=0,\" \",E128*C128)","v":" "}]
["ΣΥΝΟΛΟ ΜΟΝΩΣΕΙΣ - ΣΤΕΓΑΝΩΣΕΙΣ",null,null,null,null,{"$f":"SUM(F124:F128)","v":0},{"$f":"SUM(G124:G128)","v":0}]
["11. Μαρμαρικά"]
["11.01 Κατώφλια, επίστρ. στηθαίων ποδιές","μ./μήκους",null,{"$f":"'[1]Σε ΔΡΧ'!D118/340.75","v":4.4020542920029344},8.8000000000000007,{"$f":"IF(C131<=0,\" \",D131*C131)","v":" "},{"$f":"IF(C131<=0,\" \",E131*C131)","v":" "}]
["11.02 Μαρμαροεπένδυση βαθμίδος","μ./μήκους",null,{"$f":"'[1]Σε ΔΡΧ'!D119/340.75","v":14.673514306676449},29.34,{"$f":"IF(C132<=0,\" \",D132*C132)","v":" "},{"$f":"IF(C132<=0,\" \",E132*C132)","v":" "}]
["ΣΥΝΟΛΟ ΜΑΡΜΑΡΙΚΑ",null,null,null,null,{"$f":"SUM(F131:F132)","v":0},{"$f":"SUM(G131:G132)","v":0}]
["12. Κλίμακες"]
["12.01 Σιδερένια βαθμίδα","μ./μήκους",null,{"$f":"'[1]Σε ΔΡΧ'!D122/340.75","v":11.73881144534116},23.48,{"$f":"IF(C135<=0,\" \",D135*C135)","v":" "},{"$f":"IF(C135<=0,\" \",E135*C135)","v":" "}]
["12.02 Ξύλινη βαθμίδα","μ./μήκους",null,{"$f":"'[1]Σε ΔΡΧ'!D123/340.75","v":29.347028613352897},58.7,{"$f":"IF(C136<=0,\" \",D136*C136)","v":" "},{"$f":"IF(C136<=0,\" \",E136*C136)","v":" "}]
["ΣΥΝΟΛΟ ΚΛΙΜΑΚΕΣ",null,null,null,null,{"$f":"SUM(F135:F136)","v":0},{"$f":"SUM(G135:G136)","v":0}]
["13. Υαλοπίνακες"]
["13.01 Απλοί","μ2",null,{"$f":"'[1]Σε ΔΡΧ'!D126/340.75","v":3.2281731474688189},6.46,{"$f":"IF(C139<=0,\" \",D139*C139)","v":" "},{"$f":"IF(C139<=0,\" \",E139*C139)","v":" "}]
["13.02 Διπλοί θερμομονωτικοί","μ2",null,{"$f":"'[1]Σε ΔΡΧ'!D127/340.75","v":19.075568598679382},38.159999999999997,{"$f":"IF(C140<=0,\" \",D140*C140)","v":" "},{"$f":"IF(C140<=0,\" \",E140*C140)","v":" "}]
["ΣΥΝΟΛΟ ΥΑΛΟΠΙΝΑΚΕΣ",null,null,null,null,{"$f":"SUM(F139:F140)","v":0},{"$f":"SUM(G139:G140)","v":0}]
["14 Ψευδοροφές"]
["14.01 Επίχρισμα σε μεταλλικό πλέγμα","μ2",null,{"$f":"'[1]Σε ΔΡΧ'!D130/340.75","v":7.6302274394717537},15.26,{"$f":"IF(C143<=0,\" \",D143*C143)","v":" "},{"$f":"IF(C143<=0,\" \",E143*C143)","v":" "}]
["14.02 Από γυψοσανίδες","μ2",null,{"$f":"'[1]Σε ΔΡΧ'!D131/340.75","v":8.8041085840058688},17.600000000000001,{"$f":"IF(C144<=0,\" \",D144*C144)","v":" "},{"$f":"IF(C144<=0,\" \",E144*C144)","v":" "}]
["14.03 Πλάκες ορυκτ. ινών σε μεταλλικό σκελετό με μόνωση","μ2",null,{"$f":"'[1]Σε ΔΡΧ'!D132/340.75","v":8.8041085840058688},17.600000000000001,{"$f":"IF(C145<=0,\" \",D145*C145)","v":" "},{"$f":"IF(C145<=0,\" \",E145*C145)","v":" "}]
["14.04 Από ξύλο","μ2",null,{"$f":"'[1]Σε ΔΡΧ'!D133/340.75","v":11.73881144534116},23.48,{"$f":"IF(C146<=0,\" \",D146*C146)","v":" "},{"$f":"IF(C146<=0,\" \",E146*C146)","v":" "}]
["ΣΥΝΟΛΟ ΨΕΥΔΟΡΟΦΕΣ",null,null,null,null,{"$f":"SUM(F143:F146)","v":0},{"$f":"SUM(G143:G146)","v":0}]
["15. Επικαλύψεις"]
["15.01 Επικεραμωση πλακός σκυροδέματος","μ2",null,{"$f":"'[1]Σε ΔΡΧ'!D136/340.75","v":11.73881144534116},23.48,{"$f":"IF(C149<=0,\" \",D149*C149)","v":" "},{"$f":"IF(C149<=0,\" \",E149*C149)","v":" "}]
["15.02 Ξυλ. στέγη κεραμ. επι πλακός σκυροδέματος","μ2",null,{"$f":"'[1]Σε ΔΡΧ'!D137/340.75","v":20.54292002934703},41.08,{"$f":"IF(C150<=0,\" \",D150*C150)","v":" "}," "]
["15.03 Ξύλ. στέγη αυτοφερόμενη με κεραμ.","μ2",null,{"$f":"'[1]Σε ΔΡΧ'!D138/340.75","v":35.216434336023475},70.44,{"$f":"IF(C151<=0,\" \",D151*C151)","v":" "}," "]
["15.04 Σιδερένια στέγη με αυλακ. λαμαρίνα","μ2",null,{"$f":"'[1]Σε ΔΡΧ'!D139/340.75","v":11.73881144534116},23.48,{"$f":"IF(C152<=0,\" \",D152*C152)","v":" "}," "]
["15.05 Σιδερένια στέγη με φύλλα αμιαντοτσιμέντου","μ2",null,{"$f":"'[1]Σε ΔΡΧ'!D140/340.75","v":11.73881144534116},23.48,{"$f":"IF(C153<=0,\" \",D153*C153)","v":" "}," "]
["15.06 Επικάλυψη με σχιστόπλακες","μ2",null,null,32,null," "]
["15.07 Επικάλυψη μς πολυκαρβονικά φύλλα","μ2",null,null,16,null," "]
["ΣΥΝΟΛΟ ΕΠΙΚΑΛΥΨΕΙΣ",null,null,null,null,{"$f":"SUM(F149:F155)","v":0},{"$f":"SUM(G149:G155)","v":0}]
["16. Στηθαία"]
["16.01 Από οπλισμένο σκυρόδεμα","μ./μήκους",null,{"$f":"'[1]Σε ΔΡΧ'!D143/340.75","v":11.73881144534116},23.48,{"$f":"IF(C158<=0,\" \",D158*C158)","v":" "},{"$f":"IF(C158<=0,\" \",E158*C158)","v":" "}]
["16.02 Από δρομική πλινθοδομή","μ./μήκους",null,{"$f":"'[1]Σε ΔΡΧ'!D144/340.75","v":4.4020542920029344},8.8000000000000007,{"$f":"IF(C159<=0,\" \",D159*C159)","v":" "}," "]
["16.03 Από κιγκλίδωμα σιδερένιο","μ./μήκους",null,{"$f":"'[1]Σε ΔΡΧ'!D145/340.75","v":11.73881144534116},23.48,{"$f":"IF(C160<=0,\" \",D160*C160)","v":" "}," "]
["16.04 Από κιγκλίδωμα αλουμινίου","μ./μήκους",null,{"$f":"'[1]Σε ΔΡΧ'!D146/340.75","v":17.608217168011738},35.22,{"$f":"IF(C161<=0,\" \",D161*C161)","v":" "}," "]
["16.05 Από κιγκλίδωμα ξύλινο","μ./μήκους",null,{"$f":"'[1]Σε ΔΡΧ'!D147/340.75","v":23.477622890682319},46.96,{"$f":"IF(C162<=0,\" \",D162*C162)","v":" "}," "]
["16.06 Από υαλοπίνακες ασφαλείας","μ./μήκους",null,null,61.5,null," "]
["ΣΥΝΟΛΟ ΣΤΗΘΑΙΑ",null,null,null,null,{"$f":"SUM(F158:F163)","v":0},{"$f":"SUM(G158:G163)","v":0}]
["17. Χρωματισμοί"]
["17.01 Υδροχρωματισμοί απλοί","μ2",null,{"$f":"'[1]Σε ΔΡΧ'!D150/340.75","v":0.58694057226705798},1.18,{"$f":"IF(C166<=0,\" \",D166*C166)","v":" "},{"$f":"IF(C166<=0,\" \",E166*C166)","v":" "}]
["17.02 Υδροχρωματισμοί με τσίγκο & κόλλα","μ2",null,{"$f":"'[1]Σε ΔΡΧ'!D151/340.75","v":0.73367571533382248},1.46," "," "]
["17.03 Πλαστικά επί τοίχου","μ2",199.9,{"$f":"'[1]Σε ΔΡΧ'!D152/340.75","v":1.7608217168011739},3.52,{"$f":"IF(C168<=0,\" \",D168*C168)","v":351.9882611885547},{"$f":"IF(C168<=0,\" \",E168*C168)","v":703.64800000000002}]
["17.04 Πλαστικά σπατουλαριστά","μ2",null,{"$f":"'[1]Σε ΔΡΧ'!D153/340.75","v":2.9347028613352899},5.86," "," "]
["17.05 Τσιμεντοχρώματα","μ2",null,{"$f":"'[1]Σε ΔΡΧ'!D154/340.75","v":2.9347028613352899},5.86," "," "]
["17.06 Ακρυλικά και ρελιέφ","μ2",null,{"$f":"'[1]Σε ΔΡΧ'!D155/340.75","v":3.5216434336023479},7.04," "," "]
["17.07 Ριπολίνες κοινές","μ2",null,{"$f":"'[1]Σε ΔΡΧ'!D156/340.75","v":3.5216434336023479},7.04," "," "]
["17.08 Ριπολίνες σατινέ","μ2",null,{"$f":"'[1]Σε ΔΡΧ'!D157/340.75","v":4.4020542920029344},8.8000000000000007," "," "]
["17.09 Ντουκοχρώματα","μ2",null,{"$f":"'[1]Σε ΔΡΧ'!D158/340.75","v":4.4020542920029344},8.8000000000000007," "," "]
["17.10 Λούστρα","μ2",null,{"$f":"'[1]Σε ΔΡΧ'!D159/340.75","v":11.73881144534116},23.48," "," "]
["ΣΥΝΟΛΟ ΧΡΩΜΑΤΙΣΜΟΙ",null,null,null,null,{"$f":"SUM(F166:F175)","v":351.9882611885547},{"$f":"SUM(G166:G175)","v":703.64800000000002}]
["18. Διάφορες οικοδομικές εργασίες"]
["18.01 Μεταλ. πλέγμ· για επίχρ. πυροπροστασίας","μ2",null,{"$f":"'[1]Σε ΔΡΧ'!D162/340.75","v":4.4020542920029344},8.8000000000000007,{"$f":"IF(C178<=0,\" \",D178*C178)","v":" "},{"$f":"IF(C178<=0,\" \",E178*C178)","v":" "}]
["18.02 Ικριώματα","μ2",199.9,{"$f":"'[1]Σε ΔΡΧ'!D163/340.75","v":1.0271460014673515},2.06,{"$f":"IF(C179<=0,\" \",D179*C179)","v":205.32648569332358},{"$f":"IF(C179<=0,\" \",E179*C179)","v":411.79400000000004}]
["18.03 Τζάκι με καπνοδόχο","αποκοπή",null,{"$f":"'[1]Σε ΔΡΧ'!D164/340.75","v":440.20542920029345},880.42,{"$f":"IF(C180<=0,\" \",D180*C180)","v":" "},{"$f":"IF(C180<=0,\" \",E180*C180)","v":" "}]
["18.04 Κλειδαριές και πόμολα","μ2 κάτοψης",null,{"$f":"'[1]Σε ΔΡΧ'!D165/340.75","v":0.44020542920029349},0.88,{"$f":"IF(C181<=0,\" \",D181*C181)","v":" "},{"$f":"IF(C181<=0,\" \",E181*C181)","v":" "}]
["ΣΥΝΟΛΟ ΔΙΑΦΟΡΕΣ ΟΙΚ ΕΡΓΑΣΙΕΣ",null,null,null,null,{"$f":"SUM(F178:F181)","v":205.32648569332358},{"$f":"SUM(G178:G181)","v":411.79400000000004}]
["19. Πέργολες"]
["19.01 Από μεταλλικό σκελετό","μ2",null,null,20,{"$f":"IF(C184<=0,\" \",D184*C184)","v":" "},{"$f":"IF(C184<=0,\" \",E184*C184)","v":" "}]
["19.02 Από σκελετό αλουμινίου","μ2",null,null,25,{"$f":"IF(C185<=0,\" \",D185*C185)","v":" "},{"$f":"IF(C185<=0,\" \",E185*C185)","v":" "}]
["19.03 Από ξυλεία προλουστραρισμένη","μ3",null,null,900,{"$f":"IF(C186<=0,\" \",D186*C186)","v":" "},{"$f":"IF(C186<=0,\" \",E186*C186)","v":" "}]
["19.04 Από ξυλεία (χωρίς λούστρο)","μ3",null,null,550,{"$f":"IF(C187<=0,\" \",D187*C187)","v":" "},{"$f":"IF(C187<=0,\" \",E187*C187)","v":" "}]
["ΣΥΝΟΛΟ ΠΕΡΓΟΛΕΣ",null,null,null,null,{"$f":"SUM(F184:F187)","v":0},{"$f":"SUM(G184:G187)","v":0}]
["20. Περιφράξεις"]
["20.01 Πάσσαλοι σιδερένιοι","μ",null,null,1.5,{"$f":"IF(C190<=0,\" \",D190*C190)","v":" "},{"$f":"IF(C190<=0,\" \",E190*C190)","v":" "}]
["20.02 Πάσσαλοι ξύλινοι","μ",null,null,2.5,{"$f":"IF(C191<=0,\" \",D191*C191)","v":" "},{"$f":"IF(C191<=0,\" \",E191*C191)","v":" "}]
["20.03 Συρματόπλεγμα (κοτετσόσυρμα)","μ2",null,null,5,{"$f":"IF(C192<=0,\" \",D192*C192)","v":" "},{"$f":"IF(C192<=0,\" \",E192*C192)","v":" "}]
["20.04 Συρματόπλεγμα τετραγωνικής οπής","μ2",null,null,7.5,{"$f":"IF(C193<=0,\" \",D193*C193)","v":" "},{"$f":"IF(C193<=0,\" \",E193*C193)","v":" "}]
["ΣΥΝΟΛΟ ΠΕΡΙΦΡΑΞΕΙΣ",null,null,null,null,{"$f":"SUM(F190:F193)","v":0},{"$f":"SUM(G190:G193)","v":0}]
["21. Είδη Υγιεινής"]
["21.01 Πλήρες σετ λουτρού","αποκοπή",null,{"$f":"'[1]Σε ΔΡΧ'!D168/340.75","v":234.77622890682318},469.56,{"$f":"IF(C196<=0,\" \",D196*C196)","v":" "},{"$f":"IF(C196<=0,\" \",E196*C196)","v":" "}]
["21.02 Σετ W.C.","αποκοπή",null,{"$f":"'[1]Σε ΔΡΧ'!D169/340.75","v":88.041085840058699},176.08,{"$f":"IF(C197<=0,\" \",D197*C197)","v":" "},{"$f":"IF(C197<=0,\" \",E197*C197)","v":" "}]
["21.03 Νεροχύτης-μπαταρία κουζίνας","αποκοπή",null,{"$f":"'[1]Σε ΔΡΧ'!D170/340.75","v":88.041085840058699},176.08,{"$f":"IF(C198<=0,\" \",D198*C198)","v":" "},{"$f":"IF(C198<=0,\" \",E198*C198)","v":" "}]
["ΣΥΝΟΛΟ ΕΙΔΗ ΥΓΙΕΙΝΗΣ",null,null,null,null,{"$f":"SUM(F196:F198)","v":0},{"$f":"SUM(G196:G198)","v":0}]
["22. Υδραυλικές εγκαταστάσεις"]
["22.01 Υδρευση-αποχετευση πλήρους λουτρού","αποκοπή",null,{"$f":"'[1]Σε ΔΡΧ'!D173/340.75","v":322.81731474688189},645.64,{"$f":"IF(C201<=0,\" \",D201*C201)","v":" "},{"$f":"IF(C201<=0,\" \",E201*C201)","v":" "}]
["22.02 Υδρευση-αποχετευση WC,νεροχ. κουζίνα","αποκοπή",null,{"$f":"'[1]Σε ΔΡΧ'!D174/340.75","v":176.0821716801174},352.16,{"$f":"IF(C202<=0,\" \",D202*C202)","v":" "},{"$f":"IF(C202<=0,\" \",E202*C202)","v":" "}]
["22.03 Υδρευση-αποχετευση κουζίνας ή εργαστ.","αποκοπή",null,{"$f":"'[1]Σε ΔΡΧ'!D175/340.75","v":176.0821716801174},352.16,{"$f":"IF(C203<=0,\" \",D203*C203)","v":" "},{"$f":"IF(C203<=0,\" \",E203*C203)","v":" "}]
["ΣΥΝΟΛΟ ΥΔΡΑΥΛΙΚΕΣ ΕΓΚΑΤΑΣΤΑΣΕΙΣ",null,null,null,null,{"$f":"SUM(F201:F203)","v":0},{"$f":"SUM(G201:G203)","v":0}]
["23. Θέρμανση - Ψύξη"]
["23.01 Κεντρική θέρμανση","KCaL",null,{"$f":"'[1]Σε ΔΡΧ'!D178/340.75","v":7.3367571533382248E-2},0.14000000000000001,{"$f":"IF(C206<=0,\" \",D206*C206)","v":" "},{"$f":"IF(C206<=0,\" \",E206*C206)","v":" "}]
["23.02 Κλιματισμός - Εξαερισμός","BTU",null,{"$f":"'[1]Σε ΔΡΧ'!D179/340.75","v":7.3367571533382248E-2},0.14000000000000001,{"$f":"IF(C207<=0,\" \",D207*C207)","v":" "},{"$f":"IF(C207<=0,\" \",E207*C207)","v":" "}]
["ΣΥΝΟΛΟ ΘΕΡΜΑΝΣΗ - ΨΥΞΗ",null,null,null,null,{"$f":"SUM(F206:F207)","v":0},{"$f":"SUM(G206:G207)","v":0}]
["24. Φυσικό αέριο"]
["24.01 Εγκατάσταση μιας κατοικίας","αποκοπή",null,{"$f":"'[1]Σε ΔΡΧ'!D182/340.75","v":146.73514306676449},293.48,{"$f":"IF(C210<=0,\" \",D210*C210)","v":" "},{"$f":"IF(C210<=0,\" \",E210*C210)","v":" "}]
["ΣΥΝΟΛΟ ΦΥΣΙΚΟ ΑΕΡΙΟ",null,null,null,null,{"$f":"SUM(F210)","v":0},{"$f":"SUM(G210)","v":0}]
["25. Ηλεκτρικές εγκαταστάσεις"]
["25.01 Κατοικίας (ανά μ2 κάτοψης)","μ2",null,{"$f":"'[1]Σε ΔΡΧ'!D185/340.75","v":5.8694057226705798},11.74,{"$f":"IF(C213<=0,\" \",D213*C213)","v":" "},{"$f":"IF(C213<=0,\" \",E213*C213)","v":" "}]
["25.02 Καταστήματος (ανά μ2 κάτοψης)","μ2",null,{"$f":"'[1]Σε ΔΡΧ'!D186/340.75","v":2.9347028613352899},5.86,{"$f":"IF(C214<=0,\" \",D214*C214)","v":" "},{"$f":"IF(C214<=0,\" \",E214*C214)","v":" "}]
["25.03 Γραφείου (ανά μ2 κάτοψης)","μ2",null,{"$f":"'[1]Σε ΔΡΧ'!D187/340.75","v":2.9347028613352899},5.86,{"$f":"IF(C215<=0,\" \",D215*C215)","v":" "},{"$f":"IF(C215<=0,\" \",E215*C215)","v":" "}]
["ΣΥΝΟΛΟ ΗΛΕΚΤΡΙΚΕΣ ΕΓΚΑΤΑΣΤΑΣΕΙΣ",null,null,null,null,{"$f":"SUM(F213:F215)","v":0},{"$f":"SUM(G213:G215)","v":0}]
["26. Ανελκυστήρες"]
["26.01 Ανελκυστήρες μέχρι 4 στάσεων","αποκοπή",null,{"$f":"'[1]Σε ΔΡΧ'!D190/340.75","v":2934.70286133529},5869.4,{"$f":"IF(C218<=0,\" \",D218*C218)","v":" "},{"$f":"IF(C218<=0,\" \",E218*C218)","v":" "}]
["24.02 Προσαύξηση ανά στάση πέρα των 4","στάση",null,{"$f":"'[1]Σε ΔΡΧ'!D191/340.75","v":293.47028613352899},586.94000000000005,{"$f":"IF(C219<=0,\" \",D219*C219)","v":" "},{"$f":"IF(C219<=0,\" \",E219*C219)","v":" "}]
["ΣΥΝΟΛΟ ΑΝΕΛΚΥΣΤΗΡΕΣ",null,null,null,null,{"$f":"SUM(F218:F219)","v":0},{"$f":"SUM(G218:G219)","v":0}]
["27. Διάφορες εργασίες"]
["27.01 Ηλιακός συλλέκτης","τεμάχιο",null,{"$f":"'[1]Σε ΔΡΧ'!D194/340.75","v":440.20542920029345},880.42,{"$f":"IF(C222<=0,\" \",D222*C222)","v":" "},{"$f":"IF(C222<=0,\" \",E222*C222)","v":" "}]
["ΣΥΝΟΛΟ ΔΙΑΦΟΡΕΣ Η/Μ ΕΡΓΑΣΙΕΣ",null,null,null,null,{"$f":"SUM(F222)","v":0},{"$f":"SUM(G222)","v":0}]
["28. Περιβάλλον Χώρος"]
["28.01 Περιβάλλων Χώρος","αποκοπή",null,null,null,{"$f":"IF(C225<=0,\" \",D225*C225)","v":" "},{"$f":"IF(C225<=0,\" \",E225*C225)","v":" "}]
["Π.1 Ύδρευση Πισίνας","αποκοπή",null,null,null,{"$f":"IF(C226<=0,\" \",D226*C226)","v":" "},{"$f":"IF(C226<=0,\" \",E226*C226)","v":" "}]
["Π.2 Αποχέτευση Πισίνας","αποκοπή",null,null,null,{"$f":"IF(C227<=0,\" \",D227*C227)","v":" "},{"$f":"IF(C227<=0,\" \",E227*C227)","v":" "}]
["Π.3 Ηλεκτρολογικά Πισίνας","αποκοπή",null,null,null,{"$f":"IF(C228<=0,\" \",D228*C228)","v":" "},{"$f":"IF(C228<=0,\" \",E228*C228)","v":" "}]
["ΣΥΝΟΛΟ ΠΕΡΙΒΑΛΛΟΝ ΧΩΡΟΣ",null,null,null,null,null,{"$f":"SUM(G225:G228)","v":0}]
["ΣΥΝΟΛΟ ΣΕ ΕΥΡΩ",null,null,null,null,{"$f":"F23+F35+F48+F62+F70+F78+F116+F122+F129+F133+F137+F141+F147+F156+F164+F176+F182+F188+F194+F199+F204+F208+F211+F216+F220+F223+F229","v":574.92296404988997},{"$f":"G23+G35+G48+G62+G70+G78+G116+G122+G129+G133+G137+G141+G147+G156+G164+G176+G182+G188+G194+G199+G204+G208+G211+G216+G220+G223+G229","v":1150.6020000000001}]
[]
[]
[null,null,"……………. 27-10-22"]
[]
[null,"                 Ο ΣΥΝΤΑΞΑΣ ΜΗΧΑΝΙΚΟΣ"]

{"sheet":"ΕΝΣΗΜΑ ΙΚΑ","index":2,"n_rows":145,"n_cols":8,"rows_kept":145,"cut":false,"hidden":false,"merged":[[122,3,122,5],[135,3,135,5],[140,3,140,5],[142,3,142,5],[144,2,144,5],[119,3,119,5],[0,2,5,7],[20,3,20,5],[38,3,38,5],[53,3,53,5],[62,3,62,5],[70,3,70,5],[79,3,79,5],[93,3,93,5],[98,3,98,5],[104,3,104,5],[110,3,110,5]]}
[null,null,"ΕΡΓΟ: Εργασίες περίπτωσης  ιβ «Εργασίες εξωτερικών χρωματισμών ή αντικατάσταση κιγκλιδωμάτων ή επισκευή επιχρισμάτων ή επισκευή όψεων με χρήση ικριωμάτων» της παρ 2 του άρθρου 29 του ν.4495/2017 \nΕΡΓΟΔΟΤΗΣ: Κανα.....τάνιου Ελένη\nΘΕΣΗ ΕΡΓΟΥ:  ....-Ο.Τ 293  ....."]
["1."]
["1.01"]
["1.02"]
["1.03"]
["1.04"]
["1.05",-1,-2,-3,-4,-5,-6,-7]
["1.06","Α/Α","ΕΡΓΑΣΙΑ","ΜΟΝΑΔΑ","ΕΝΣ/ΜΟΝ","ΠΟΣΟΤΗΤΑ ΕΡΓΑΣΙΑΣ","ΗΜΕΡ/ΣΘΙΑ","ΦΑΣΗ ΚΑΤΑΣΚΕΥΗΣ ΕΡΓΟΥ"]
["1.07","1.","ΧΩΜΑΤΟΥΡΓΙΚΑ",null,null,"    ","    "]
["1.08","1.01","Γενικές εκσκαφές γαιώδεις με μηχανικά μέσα (περιλαμβάνεται φόρτωση, μεταφορά κλπ.)","Μ3",2E-3,null,{"$f":"F10*E10","v":0},1]
["1.09","1.02","Γενικές εκσκαφές ημιβραχώδεις με μηχανικά μέσα εκτός κομπρεσέρ (περιλαμβάνεται φόρτωση, μεταφορά κλπ.)","Μ3",4.0000000000000001E-3,null,{"$f":"F11*E11","v":0},1]
["1.10","1.03","Γενικές εκσκαφές βραχώδεις με μηχανικά μέσα εκτός κομπρεσέρ (περιλαμβάνεται φόρτωση, μεταφορά κλπ.)","Μ3",5.0000000000000001E-3,null,0,1]
["1.11","1.04","Εκσκαφές θεμελίων γαιώδεις με μηχανικά μέσα (περιλαμβάνεται φόρτωση, μεταφορά κλπ.)","Μ3",3.0000000000000001E-3,null,0,1]
["2.","1.05","Εκσκαφές  θεμελίων ημιβραχώδεις με μηχανικά μέσα εκτός κομπρεσέρ (περιλαμβάνεται φόρτωση, μεταφορά κλπ.)","Μ3",4.0000000000000001E-3,null,0,1]
["2.01","1.06","Εκσκαφές  θεμελίων βραχώδεις με μηχανικά μέσα εκτός κομπρεσέρ (περιλαμβάνεται φόρτωση, μεταφορά κλπ.)","Μ3",6.0000000000000001E-3,null,0,1]
["2.02","1.07","Επιχώσεις με μηχανικά μέσα (περιλαμβάνεται φόρτωση, μεταφορά, διάστρωση, συμπύκνωση κλπ.)","Μ3",2E-3,null,0,1]
["2.03","1.08","Εκσκαφές γαιώδεις με τα χέρια (περιλαμβάνεται φόρτωση, μεταφορά κλπ.)","Μ3",0.36,null,0,1]
["2.04","1.09","Εκσκαφές ημιβραχώδεις με τα χέρια  ή κομπρεσέρ (περιλαμβάνεται φόρτωση, μεταφορά κλπ.)","Μ3",0.45,null,0,1]
["2.05","1.10","Εκσκαφές βραχώδεις με τα χέρια  ή κομπρεσέρ (περιλαμβάνεται φόρτωση, μεταφορά κλπ.)","Μ3",0.72,null,0,1]
["2.06","1.11","Επιχώσεις πάσης φύσεως με τα χέρια (περιλαμβάνεται φόρτωση, μεταφορά, διάστρωση, συμπύκνωση κλπ.)","Μ3",0.18,null,0,1]
["2.07",null,null,"ΣΥΝΟΛΟ ΧΩΜΑΤΟΥΡΓΙΚΑ",null,null,{"$f":"SUM(G10:G20)","v":0}]
["2.08","2.","ΚΑΘΑΙΡΕΣΕΙΣ ",null,null,"    "]
["2.09","2.01","Καθαίρεση ωπλ. σκυροδέματος","Μ3",1.44,null,{"$f":"F23*E23","v":0},1]
["2.10","2.02","Καθαιρέσεις σκυροδεμάτων δαπέδων (άοπλο ή ωπλισμένο με πλέγμα) ","Μ3",0.9,null,0,1]
["2.11","2.03","Καθαίρεση πλινθοδομής συνήθους κονιάματος","Μ3",0.27,null,0,1]
["2.12","2.04","Καθαίρεση πλινθοδομής ισχυρού κονιάματος","Μ3",0.36,null,0,1]
["2.13","2.05","Καθαίρεση λιθοδομών πάσης φύσεως","Μ3",0.45,null,0,1]
["2.14","2.06","Καθαίρεση επιχρισμάτων","Μ2",0.09,null,0,1]
["2.15","2.07","Καθαίρεση τοίχων, εκ πλινθοδομών για διάνοιξη ανοίγματος (θυρών, παραθύρων κλπ.)","τεμ.",0.33300000000000002,null,0,1]
["2.16","2.08","Αποξήλωση ξύλινων ή μεταλλικών κουφωμάτων μετά των κασωμάτων τους","Μ2",0.20200000000000001,null,0,1]
["3.","2.09","Αποξήλωση κεραμιδιών στέγης (κεραμίδια καρφωτά, δετά ή κολυμπητά)","Μ2",1.7999999999999999E-2,null,0,1]
["3.01","2.10","Αποξήλωση σκελετού (ζευκτών κλπ.) στέγης πάσης φύσεως","Μ2",3.5999999999999997E-2,null,0,1]
["3.02","2.11","Αποξήλωση κυματοειδών φύλλων επικάλυψης πάσης φύσεως (αμιαντοτσιμέντου, μεταλλικών)","Μ2",1.2999999999999999E-2,null,0,1]
["3.03","2.12","Αποξήλωση δαπέδων εκ φυσικών ή τεχνικών πλακών ή πλακιδίων ή μαρμάρων πάσης φύσεως","Μ2",2.7E-2,null,0,1]
["3.04","2.13","Αποξήλωση ξύλινων δαπέδων","Μ2",2.1999999999999999E-2,null,0,1]
["3.05","2.14","Αποξήλωση υγρομόνωσης με ασφαλτόπανο ή μεμβράνη","Μ2",8.9999999999999993E-3,null,0,1]
["3.06","2.15","Αποξήλωση θερμομόνωσης πάσης φύσεως","Μ2",7.0000000000000001E-3,null,0,1]
["3.07","2.16","Απομάκρυνση και φόρτωση δια χειρών πάσης φύσεως προϊόντων καθαιρέσεων ή αποξηλώσεων","Μ3",0.27,null,0,1]
["3.08",null,null,"ΣΥΝΟΛΟ ΚΑΘΑΙΡΕΣΕΙΣ",null,null,{"$f":"SUM(G23:G38)","v":0}]
["3.09","3.","ΣΚΥΡΟΔΕΜΑΤΑ",null,null,"    "]
["3.10","3.01","Ωπλισμένα σκυροδέματα","Μ3",0.81,null,{"$f":"F41*E41","v":0},1]
["3.11","3.02","Ελαφρά ωπλ. σκυροδέματα (με πλέγμα) ","Μ3",0.45,null,0,1]
["3.12","3.03","Ελαφρομπετόν πάσης φύσεως (BETOCEL, περλιτόδεμα κλπ.)","Μ3",0.27,null,0,1]
["3.13","3.04","Άοπλο σκυρόδεμα (GROS-BETON)","Μ3",0.315,null,0,1]
["4.","3.05","Εξισωτικές στρώσεις (γεμίσματα δαπέδων με γαρμπιλομπετόν, ελαφρομπετόν κλπ)","Μ2",1.7999999999999999E-2,null,0,1]
["4.01","3.06","Επιφάνειες εμφανούς σκυροδέματος","Μ2",2.7E-2,null,0,1]
["4.02","3.07","Σενάζ δρομικά","Μ.Μ.",3.5999999999999997E-2,null,0,1]
["4.03","3.08","Σενάζ μπατικά","Μ.Μ.",6.3E-2,null,0,1]
["4.04","3.09","Μανδύες έγχυτου σκυροδέματος(οπλισμός, ξυλότυπος, σκυρόδεμα)","Μ3",1.35,null,0,1]
["4.05","3.10","Μανδύες έκτοξευόμενου σκυροδέματος(οπλισμός, σκυρόδεμα)","Μ2",0.22500000000000001,null,0,1]
["4.06","3.11","Βάσεις ανεμογεννητριών (εφόσον δεν υπάρχει προϋπολογισμός)","Μ3",null,null,0,1]
["4.07","3.12","Ωπλισμένο σκυρόδεμα αντιστήριξης πρανών βαθέων εκσκαφών","Μ3",null,null,0,1]
["5.","3.13","Ωπλισμένα σκυροδέματα περιβάλλοντος χώρου","Μ3",null,null,0,1]
["5.01",null,null,"ΣΥΝΟΛΟ ΣΚΥΡΟΔΕΜΑΤΑ",null,null,{"$f":"SUM(G41:G53)","v":0}]
["5.02","4.","ΤΟΙΧΟΠΟΙΪΕΣ"]
["5.03","4.01","Λιθοδομές με αργούς λίθους","Μ2",0.27,null,0,2]
["5.04","4.02","Λιθοδομές με λαξευτούς λίθους (λάξευμα επι τόπου)","Μ2",0.63,null,0,2]
["5.05","4.03","Πλινθοδομές δρομικές","Μ2",5.3999999999999999E-2,null,0,2]
["5.06","4.04","Πλινθοδομές μπατικές","Μ2",0.09,null,0,2]
["6.","4.05","Τσιμεντοπλινθοδομές","Μ2",3.5999999999999997E-2,null,0,2]
["6.01","4.06","Πλινθοδομές εξ ελαφρών πλίνθων (κισσηροπλινθοδομές, τύπου ALFA-BLOCK κλπ.)","Μ2",3.1E-2,null,0,2]
["6.02","4.07","Διακοσμητικά τούβλα και υαλότουβλα","Μ2",0.18,null,0,2]
["6.03",null,null,"ΣΥΝΟΛΟ ΤΟΙΧΟΠΟΙΪΕΣ",null,null,{"$f":"SUM(G56:G62)","v":0}]
["6.04","5.","ΕΠΙΧΡΙΣΜΑΤΑ",null,null,"    "]
["6.05","5.01","Ασβεστοτσιμεντοκονιάματα τριπτά","Μ2",0.04,null,{"$f":"F65*E65","v":0},3]
["6.06","5.02","Τσιμεντοκονιάματα τριπτά (με ή χωρίς μονωτικά πρόσθετα)","Μ2",7.1999999999999995E-2,null,0,3]
["6.07","5.03","Ασβεστοτσιμεντοκονιάματα με τελευταία στρώση σαγρέ","Μ2",4.4999999999999998E-2,null,0,3]
["7.","5.04","Επιχρίσματα τύπου αρτιφισιέλ","Μ2",6.3E-2,null,0,3]
["7.01","5.05","Επιχρίσματα με τελευταία στρώση πεταχτή (χωριάτικου τύπου)","Μ2",3.5999999999999997E-2,null,0,3]
["7.02","5.06","Επιχρίσματα τραβηχτά","Μ.Μ.",0.19800000000000001,null,0,3]
["7.03",null,null,"ΣΥΝΟΛΟ ΕΠΙΧΡΙΣΜΑΤΑ",null,null,{"$f":"SUM(G65:G70)","v":0}]
["7.04","6.","ΕΠΕΝΔΥΣΕΙΣ ΤΟΙΧΩΝ",null,null,"    "]
["7.05","6.01","Με κεραμικά πλακάκια κολλητά","Μ2",0.09,null,{"$f":"F73*E73","v":0},3]
["7.06","6.02","Με κεραμικά πλακάκια με χρήση τσιμεντοκονιάματος","Μ2",0.108,null,0,3]
["7.07","6.03","Με ξύλο","Μ2","       ---"]
["7.08","6.04","Με διακοσμητικά τούβλα","Μ2",0.16200000000000001,null,0,3]
["7.09","6.05","Με τεχνικές ή φυσικές πλάκες ή πέτρα (π.χ. σχιστόλιθοι κλπ.)","Μ2",0.14399999999999999,null,0,3]
["7.10","6.06","Με ορθομαρμάρωση","Μ2",0.13500000000000001,null,0,3]
["7.11","6.07","Με φύλλα μεταλλικά (αλουμινίου κλπ)","Μ2","       ---"]
["7.12",null,null,"ΣΥΝ ΕΠΕΝΔΥΣΕΙΣ ΤΟΙΧΩΝ",null,null,{"$f":"SUM(G73:G79)","v":0}]
["8.","7.","ΕΠΙΣΤΡΩΣΕΙΣ ΔΑΠΕΔΩΝ",null,null,"    "]
["8.01","7.01","Με τσιμεντοκονίαμα","Μ2",3.5999999999999997E-2,null,{"$f":"F82*E82","v":0},4]
["8.02","7.02","Με τσιμεντόπλακες πάσης φύσεως","Μ2",4.4999999999999998E-2,null,0,4]
["8.03","7.03","Με γαρμπιλομωσαϊκό (χωρίς λειότριψη και στίλβωση)","Μ2",4.4999999999999998E-2,null,0,4]
["9.","7.04","Με μωσαϊκό λευκού τσιμέντου (χωρίς λειότριψη και στίλβωση)","Μ2",5.3999999999999999E-2,null,0,4]
["9.01","7.05","Με φυσικές πλάκες (Καρύστου κλπ.)","Μ2",9.9000000000000005E-2,null,0,4]
["9.02","7.06","Με πλάκες μαρμάρου (χωρίς λειότριψη και στίλβωση)","Μ2",0.108,null,0,4]
["9.03","7.07","Με κεραμικά πλακάκια","Μ2",9.9000000000000005E-2,null,0,4]
["9.04","7.08","Με ξύλινα δάπεδα καρφωτά επί καδρονίων (χωρίς τρίψιμο και βερνίκωμα )","Μ2",0.126,null,0,4]
["10.","7.09","Με ξύλινα κολλητά δάπεδα (χωρίς τρίψιμο και βερνίκωμα)","Μ2",8.1000000000000003E-2,null,0,4]
["10.01","7.10","Με πλαστικά πλακάκια ή τάπητα (πλαστικό, μοκέττα κλπ.)","Μ2","       ---"]
["10.02","7.11","Λειότριψη και στίλβωση δαπέδων μωσαϊκών ή μαρμάρων","Μ2",3.5999999999999997E-2,null,0,4]
["10.03","7.12","Τρίψιμο και βερνίκωμα ξύλινων δαπέδων","Μ2",3.1E-2,null,0,4]
["10.04",null,null,"ΣΥΝ ΕΠΙΣΤΡΩΣΕΙΣ ΔΑΠΕΔΩΝ",null,null,{"$f":"SUM(G82:G93)","v":0}]
["11.","8.","ΜΟΝΩΣΕΙΣ - ΣΤΕΓΑΝΩΣΕΙΣ"]
["11.01","8.01","Υγρομόνωση με πάσης φύσεως μεμβράνες ή ασφαλτόπανα","Μ2",1.7999999999999999E-2,null,0,5]
["11.02","8.02","Υγρομόνωση με πάσης φύσεως επαλειφόμενο υλικό","Μ2",8.9999999999999993E-3,null,0,5]
["11.03","8.03","Θερμομόνωση με τοποθέτηση πάσης φύσεως θερμομονωτικών πλακών","Μ2",6.0000000000000001E-3,null,0,5]
["11.04",null,null,"ΣΥΝΟΛΟ ΣΤΑΓΑΝΩΣΕΙΣ",null,null,{"$f":"F100*E100","v":0}]
["11.05","9.","ΜΑΡΜΑΡΙΚΑ"]
["11.06","9.01","Ποδιές, κατώφλια, επίστρωση στηθαίων","Μ.Μ.",4.4999999999999998E-2,null,0,4]
["11.07","9.02","Επένδυση βαθμίδων (πάτημα, ρίχτυ )","Μ.Μ.",0.09,null,0,4]
["12.","9.03","Σκαλομέρια","Ζεύγος",1.7999999999999999E-2,null,0,4]
["12.01","9.04","Σοβατεπιά","Μ.Μ.",2.1999999999999999E-2,null,0,4]
["13.",null,null,"ΣΥΝΟΛΟ ΜΑΡΜΑΡΙΚΑ",null,null,{"$f":"SUM(G96:G104)","v":0}]
["13.01","10.","ΨΕΥΔΟΡΟΦΕΣ"]
["13.02","10.01","Επίχρισμα σε μεταλλικό πλέγμα","Μ2",0.09,null,0,3]
["13.03","10.02","Από γυψοσανίδες","Μ2","       ---"]
["13.04","10.03","Από πλάκες ορυκτών ινών με μεταλλικό σκελετό","Μ2","       ---"]
["13.05","10.04","Από ξύλο","Μ2","       ---"]
["13.06",null,null,"ΣΥΝΟΛΟ ΨΕΥΔΟΡΟΦΕΣ",null,null,{"$f":"SUM(G107:G110)","v":0}]
["13.07","11.","ΕΠΙΚΑΛΥΨΕΙΣ"]
["13.08","11.01","Επικεράμωση  με κεραμίδια κολυμπητά","Μ2",8.1000000000000003E-2,null,0,1]
["13.09","11.02","Επικεράμωση με κεραμίδια καρφωτά ή δετά","Μ2",3.1E-2,null,0,1]
["13.10","11.03","Ξύλινος σκελετός στέγης εδραζόμενος","Μ2",4.4999999999999998E-2,null,0,1]
["13.11","11.04","Ξύλινος σκελετός στέγης αυτοφερόμενος","Μ2",0.108,null,0,1]
["14.","11.05","Επικάλυψη με σχιστόπλακες εν ξηρώ","Μ2",3.1E-2,null,0,1]
["14.01","11.06","Επικάλυψη με σχιστόπλακες κολυμπητές","Μ2",0.09,null,0,1]
["14.02","11.07","Επικάλυψη με κυματοειδείς πλάκες αμιαντοτσιμεντου, πλαστικού, μεταλλικές κλπ.","Μ2",8.9999999999999993E-3,null,0,1]
["14.03",null,null,"ΣΥΝΟΛΟ ΕΠΙΚΑΛΥΨΕΙΣ",null,null,{"$f":"SUM(G113:G119)","v":0}]
["15.","12.","ΣΤΗΘΑΙΑ"]
["15.01","12.01","Από οπλισμένο σκυρόδεμα","Μ.Μ.",0.09,null,0,1]
[null,null,null,"ΣΥΝΟΛΟ ΣΤΗΘΑΙΑ",null,null,{"$f":"SUM(G122)","v":0}]
[null,"13.","ΧΡΩΜΑΤΙΣΜΟΙ"]
[null,"13.01","Υδροχρωματισμοί πάσης φύσεως","Μ2",8.9999999999999993E-3,null,0,5]
[null,"13.02","Πλαστικά απλά επί τοίχου","Μ2",2.7E-2,null,0,5]
[null,"13.03","Πλαστικά ή ριπολίνες σπατουλαριστά επί τοίχου","Μ2",0.04,null,0,5]
[null,"13.04","Επαναχρωματισμός τοίχων με πλαστικά ή ριπολίνες","Μ2",2.7E-2,null,0,5]
[null,"13.05","Χρωματισμοί ή επαναχρωματισμοί με ακρυλικό ή τσιμεντόχρωμα","Μ2",2.7E-2,null,0,5]
[null,"13.06","Χρωματισμοί ή επαναχρωματισμοί με ρελιέφ","Μ2",3.5999999999999997E-2,null,0,5]
[null,"13.07","Χρωματισμοί ξύλινων επιφανειών","Μ2",6.3E-2,null,0,5]
[null,"13.08","Χρωματισμοί σιδηρών επιφανειών","Μ2",7.1999999999999995E-2,null,0,5]
[null,"13.09","Χρωματισμοί σωλήνων και ξύλινων ή σιδηρών κουπαστών","Μ.Μ.",2.7E-2,null,0,5]
[null,"13.10","Επαναχρωματισμός ξύλινων ή σιδηρών επιφανειών ","Μ2",4.4999999999999998E-2,null,0,5]
[null,"13.11","Βερνικοχρωματισμοί ξύλινων επιφανειών","Μ2",0.13500000000000001,null,0,5]
[null,null,null,"ΣΥΝΟΛΟ ΧΡΩΜΑΤΙΣΜΟΙ",null,null,{"$f":"SUM(G125:G135)","v":0}]
[null,"14.","ΔΙΑΦΟΡΑ"]
[null,"14.01","Κατασκευή τζακιού","τεμ. 1",2.7,null,0,6]
[null,"14.02","Καμινάδα μετά ικριωμάτων","Μ.Μ.",0.22500000000000001,null,0,6]
[null,"14.03","Ικριώματα ξύλινα ή σιδηρά","Μ2",1.2999999999999999E-2,null,0,6]
[null,null,null,"ΣΥΝΟΛΟ ΔΙΑΦΟΡΑ",null,null,{"$f":"SUM(G138:G140)","v":0}]
[null,"15.","ΠΕΡΙΒΑΛΛΩΝ ΧΩΡΟΣ",null,null,"    ","    "]
[null,"15.01","Ο αριθμός ημερομισθίων περιβάλλοντος χώρου προκύπτει με την προμέτρηση των εργασιών και εφαρμογή του παρόντος πίνακος.","ΣΥΝΟΛΟ ΠΕΡ/ΛΩΝ ΧΩΡΟΣ",null,"    ",0,6]
[]
[null,null,"ΓΕΝΙΚΟ ΣΥΝΟΛΟ ΗΜΕΡΟΜΙΣΘΙΩΝ",null,null,null,{"$f":"G143+G141+G123+G120+G111+G105+G99+G94+G80+G71+G63+G54+G39+G21","v":0}]